BEGIN:VCALENDAR
VERSION:2.0
PRODID:-//Chorverband Region Kocher - ECPv6.15.20//NONSGML v1.0//EN
CALSCALE:GREGORIAN
METHOD:PUBLISH
X-ORIGINAL-URL:https://chorverband-region-kocher.de/cms
X-WR-CALDESC:Veranstaltungen für Chorverband Region Kocher
REFRESH-INTERVAL;VALUE=DURATION:PT1H
X-Robots-Tag:noindex
X-PUBLISHED-TTL:PT1H
BEGIN:VTIMEZONE
TZID:Europe/Berlin
BEGIN:DAYLIGHT
TZOFFSETFROM:+0100
TZOFFSETTO:+0200
TZNAME:CEST
DTSTART:20210328T010000
END:DAYLIGHT
BEGIN:STANDARD
TZOFFSETFROM:+0200
TZOFFSETTO:+0100
TZNAME:CET
DTSTART:20211031T010000
END:STANDARD
BEGIN:DAYLIGHT
TZOFFSETFROM:+0100
TZOFFSETTO:+0200
TZNAME:CEST
DTSTART:20220327T010000
END:DAYLIGHT
BEGIN:STANDARD
TZOFFSETFROM:+0200
TZOFFSETTO:+0100
TZNAME:CET
DTSTART:20221030T010000
END:STANDARD
BEGIN:DAYLIGHT
TZOFFSETFROM:+0100
TZOFFSETTO:+0200
TZNAME:CEST
DTSTART:20230326T010000
END:DAYLIGHT
BEGIN:STANDARD
TZOFFSETFROM:+0200
TZOFFSETTO:+0100
TZNAME:CET
DTSTART:20231029T010000
END:STANDARD
END:VTIMEZONE
BEGIN:VEVENT
DTSTART;TZID=Europe/Berlin:20221023T200000
DTEND;TZID=Europe/Berlin:20221023T230000
DTSTAMP:20260421T102507
CREATED:20220718T194117Z
LAST-MODIFIED:20220809T133308Z
UID:3922-1666555200-1666566000@chorverband-region-kocher.de
SUMMARY:Pop meets Poesie
DESCRIPTION:Konzert der Red Valleys am Sonntag\, 23. Oktober 2022 in der Hospitalkirche in Schwäbisch Hall\, Am Spitalbach 8\, 74523 Schwäbisch Hall. Beginn: 20.00 Uhr. Das Konzert steht unter dem Motto „Pop meets Poesie“. Eine Moderatorin führt durch das Programm und übersetzt den Inhalt der Lieder. Außerdem werden die Red Valleys musikalisch durch eine Band begleitet.\nDer Eintritt zum Konzert ist frei\, Spenden sind willkommen
URL:https://chorverband-region-kocher.de/cms/termin/pop-meets-poesie-2/
LOCATION:Hospitalkirche Schwäbisch Hall\, Am Spitalbach 8\, Schwäbisch Hall\, 74523
END:VEVENT
END:VCALENDAR